BEGIN:VCALENDAR
VERSION:2.0
PRODID:-//BF MUSIC DINER - ECPv6.2.9//NONSGML v1.0//EN
CALSCALE:GREGORIAN
METHOD:PUBLISH
X-WR-CALNAME:BF MUSIC DINER
X-ORIGINAL-URL:https://bf-musicdiner.de
X-WR-CALDESC:Veranstaltungen für BF MUSIC DINER
REFRESH-INTERVAL;VALUE=DURATION:PT1H
X-Robots-Tag:noindex
X-PUBLISHED-TTL:PT1H
BEGIN:VTIMEZONE
TZID:Europe/Helsinki
BEGIN:DAYLIGHT
TZOFFSETFROM:+0200
TZOFFSETTO:+0300
TZNAME:EEST
DTSTART:20260329T010000
END:DAYLIGHT
BEGIN:STANDARD
TZOFFSETFROM:+0300
TZOFFSETTO:+0200
TZNAME:EET
DTSTART:20261025T010000
END:STANDARD
END:VTIMEZONE
BEGIN:VEVENT
DTSTART;TZID=Europe/Helsinki:20260510T093000
DTEND;TZID=Europe/Helsinki:20260510T113000
DTSTAMP:20260423T185337
CREATED:20260104T155529Z
LAST-MODIFIED:20260104T155529Z
UID:3207-1778405400-1778412600@bf-musicdiner.de
SUMMARY:Muttertagsfrühstück
DESCRIPTION:
URL:https://bf-musicdiner.de/event/muttertagsfruehstueck-2/
LOCATION:BF Music Diner\, Porschestr. 7\, Pfalzgrafenweiler\, 72285\, Deutschland
CATEGORIES:Eventkalender
ORGANIZER;CN="BF Music & Diner":MAILTO:info@bf-musicdiner.de
END:VEVENT
END:VCALENDAR