BEGIN:VCALENDAR
VERSION:2.0
PRODID:-//BF MUSIC DINER - ECPv6.2.9//NONSGML v1.0//EN
CALSCALE:GREGORIAN
METHOD:PUBLISH
X-ORIGINAL-URL:https://bf-musicdiner.de
X-WR-CALDESC:Veranstaltungen für BF MUSIC DINER
REFRESH-INTERVAL;VALUE=DURATION:PT1H
X-Robots-Tag:noindex
X-PUBLISHED-TTL:PT1H
BEGIN:VTIMEZONE
TZID:Europe/Helsinki
BEGIN:DAYLIGHT
TZOFFSETFROM:+0200
TZOFFSETTO:+0300
TZNAME:EEST
DTSTART:20240331T010000
END:DAYLIGHT
BEGIN:STANDARD
TZOFFSETFROM:+0300
TZOFFSETTO:+0200
TZNAME:EET
DTSTART:20241027T010000
END:STANDARD
BEGIN:DAYLIGHT
TZOFFSETFROM:+0200
TZOFFSETTO:+0300
TZNAME:EEST
DTSTART:20250330T010000
END:DAYLIGHT
BEGIN:STANDARD
TZOFFSETFROM:+0300
TZOFFSETTO:+0200
TZNAME:EET
DTSTART:20251026T010000
END:STANDARD
BEGIN:DAYLIGHT
TZOFFSETFROM:+0200
TZOFFSETTO:+0300
TZNAME:EEST
DTSTART:20260329T010000
END:DAYLIGHT
BEGIN:STANDARD
TZOFFSETFROM:+0300
TZOFFSETTO:+0200
TZNAME:EET
DTSTART:20261025T010000
END:STANDARD
END:VTIMEZONE
BEGIN:VEVENT
DTSTART;TZID=Europe/Helsinki:20260417T210000
DTEND;TZID=Europe/Helsinki:20260417T233000
DTSTAMP:20260423T170817
CREATED:20260104T155130Z
LAST-MODIFIED:20260104T155130Z
UID:3205-1776459600-1776468600@bf-musicdiner.de
SUMMARY:Live Music mit Alex Vees
DESCRIPTION:
URL:https://bf-musicdiner.de/event/live-music-mit-alex-vees/
LOCATION:BF Music Diner\, Porschestr. 7\, Pfalzgrafenweiler\, 72285\, Deutschland
CATEGORIES:Eventkalender
ORGANIZER;CN="BF Music & Diner":MAILTO:info@bf-musicdiner.de
END:VEVENT
BEGIN:VEVENT
DTSTART;TZID=Europe/Helsinki:20260321T220000
DTEND;TZID=Europe/Helsinki:20260322T010000
DTSTAMP:20260423T170817
CREATED:20260104T154924Z
LAST-MODIFIED:20260104T160749Z
UID:3203-1774130400-1774141200@bf-musicdiner.de
SUMMARY:DJ Party
DESCRIPTION:
URL:https://bf-musicdiner.de/event/dj-party-5/
LOCATION:BF Music Diner\, Porschestr. 7\, Pfalzgrafenweiler\, 72285\, Deutschland
CATEGORIES:Eventkalender
ORGANIZER;CN="BF Music & Diner":MAILTO:info@bf-musicdiner.de
END:VEVENT
BEGIN:VEVENT
DTSTART;TZID=Europe/Helsinki:20260313T210000
DTEND;TZID=Europe/Helsinki:20260313T233000
DTSTAMP:20260423T170817
CREATED:20260104T154722Z
LAST-MODIFIED:20260104T154722Z
UID:3201-1773435600-1773444600@bf-musicdiner.de
SUMMARY:Karaoke Party
DESCRIPTION:
URL:https://bf-musicdiner.de/event/karaoke-party-3/
LOCATION:BF Music Diner\, Porschestr. 7\, Pfalzgrafenweiler\, 72285\, Deutschland
CATEGORIES:Eventkalender
ORGANIZER;CN="BF Music & Diner":MAILTO:info@bf-musicdiner.de
END:VEVENT
BEGIN:VEVENT
DTSTART;TZID=Europe/Helsinki:20260130T210000
DTEND;TZID=Europe/Helsinki:20260130T230000
DTSTAMP:20260423T170817
CREATED:20260104T154415Z
LAST-MODIFIED:20260104T154515Z
UID:3199-1769806800-1769814000@bf-musicdiner.de
SUMMARY:Live Music mit André Görzner
DESCRIPTION:
URL:https://bf-musicdiner.de/event/live-music-mit-andre-goerzner-2/
CATEGORIES:Eventkalender
ORGANIZER;CN="BF Music & Diner":MAILTO:info@bf-musicdiner.de
END:VEVENT
BEGIN:VEVENT
DTSTART;TZID=Europe/Helsinki:20260116T210000
DTEND;TZID=Europe/Helsinki:20260116T230000
DTSTAMP:20260423T170817
CREATED:20260104T154034Z
LAST-MODIFIED:20260104T154034Z
UID:3184-1768597200-1768604400@bf-musicdiner.de
SUMMARY:Karaoke Party
DESCRIPTION:
URL:https://bf-musicdiner.de/event/karaoke-party-2/
CATEGORIES:Eventkalender
ORGANIZER;CN="BF Music & Diner":MAILTO:info@bf-musicdiner.de
END:VEVENT
BEGIN:VEVENT
DTSTART;TZID=Europe/Helsinki:20251223T220000
DTEND;TZID=Europe/Helsinki:20251224T020000
DTSTAMP:20260423T170817
CREATED:20250618T113013Z
LAST-MODIFIED:20250618T113014Z
UID:3031-1766527200-1766541600@bf-musicdiner.de
SUMMARY:DJ CHRISTMAS PARTY
DESCRIPTION:
URL:https://bf-musicdiner.de/event/dj-christmas-party/
LOCATION:BF Music Diner\, Porschestr. 7\, Pfalzgrafenweiler\, 72285\, Deutschland
CATEGORIES:Eventkalender
ORGANIZER;CN="BF Music & Diner":MAILTO:info@bf-musicdiner.de
END:VEVENT
BEGIN:VEVENT
DTSTART;TZID=Europe/Helsinki:20251130T093000
DTEND;TZID=Europe/Helsinki:20251130T113000
DTSTAMP:20260423T170817
CREATED:20250618T112652Z
LAST-MODIFIED:20250618T112653Z
UID:3029-1764495000-1764502200@bf-musicdiner.de
SUMMARY:ADVENTSFRÜHSTÜCK
DESCRIPTION:
URL:https://bf-musicdiner.de/event/adventsfruehstueck/
LOCATION:BF Music Diner\, Porschestr. 7\, Pfalzgrafenweiler\, 72285\, Deutschland
CATEGORIES:Eventkalender
ORGANIZER;CN="BF Music & Diner":MAILTO:info@bf-musicdiner.de
END:VEVENT
BEGIN:VEVENT
DTSTART;TZID=Europe/Helsinki:20251115T220000
DTEND;TZID=Europe/Helsinki:20251116T020000
DTSTAMP:20260423T170817
CREATED:20250108T104832Z
LAST-MODIFIED:20250108T104832Z
UID:2948-1763244000-1763258400@bf-musicdiner.de
SUMMARY:DJ PARTY
DESCRIPTION:DJ Party
URL:https://bf-musicdiner.de/event/dj-party-4/
LOCATION:BF Music Diner\, Porschestr. 7\, Pfalzgrafenweiler\, 72285\, Deutschland
CATEGORIES:Eventkalender
ORGANIZER;CN="BF Music & Diner":MAILTO:info@bf-musicdiner.de
END:VEVENT
BEGIN:VEVENT
DTSTART;TZID=Europe/Helsinki:20251107T210000
DTEND;TZID=Europe/Helsinki:20251107T230000
DTSTAMP:20260423T170817
CREATED:20250618T111551Z
LAST-MODIFIED:20250618T112003Z
UID:3027-1762549200-1762556400@bf-musicdiner.de
SUMMARY:KARAOKE PARTY
DESCRIPTION:
URL:https://bf-musicdiner.de/event/karaoke-party/
LOCATION:BF Music Diner\, Porschestr. 7\, Pfalzgrafenweiler\, 72285\, Deutschland
CATEGORIES:Eventkalender
ORGANIZER;CN="BF Music & Diner":MAILTO:info@bf-musicdiner.de
END:VEVENT
BEGIN:VEVENT
DTSTART;TZID=Europe/Helsinki:20251017T210000
DTEND;TZID=Europe/Helsinki:20251017T230000
DTSTAMP:20260423T170817
CREATED:20250618T111237Z
LAST-MODIFIED:20250618T113158Z
UID:3025-1760734800-1760742000@bf-musicdiner.de
SUMMARY:LIVE MUSIC SOULHIKERS
DESCRIPTION:
URL:https://bf-musicdiner.de/event/live-music-soul-hikers/
LOCATION:BF Music Diner\, Porschestr. 7\, Pfalzgrafenweiler\, 72285\, Deutschland
CATEGORIES:Eventkalender
ORGANIZER;CN="BF Music & Diner":MAILTO:info@bf-musicdiner.de
END:VEVENT
BEGIN:VEVENT
DTSTART;TZID=Europe/Helsinki:20251012T113000
DTEND;TZID=Europe/Helsinki:20251012T170000
DTSTAMP:20260423T170817
CREATED:20250108T095854Z
LAST-MODIFIED:20250108T095855Z
UID:2946-1760268600-1760288400@bf-musicdiner.de
SUMMARY:WEINWANDERUNG
DESCRIPTION:Weinwanderung
URL:https://bf-musicdiner.de/event/weinwanderung-3/
LOCATION:BF Music Diner\, Porschestr. 7\, Pfalzgrafenweiler\, 72285\, Deutschland
CATEGORIES:Eventkalender
ORGANIZER;CN="BF Music & Diner":MAILTO:info@bf-musicdiner.de
END:VEVENT
BEGIN:VEVENT
DTSTART;TZID=Europe/Helsinki:20251002T210000
DTEND;TZID=Europe/Helsinki:20251002T230000
DTSTAMP:20260423T170817
CREATED:20250618T110910Z
LAST-MODIFIED:20250618T110911Z
UID:3023-1759438800-1759446000@bf-musicdiner.de
SUMMARY:PARTY ITALIANA
DESCRIPTION:
URL:https://bf-musicdiner.de/event/party-italiana/
LOCATION:BF Music Diner\, Porschestr. 7\, Pfalzgrafenweiler\, 72285\, Deutschland
CATEGORIES:Eventkalender
ORGANIZER;CN="BF Music & Diner":MAILTO:info@bf-musicdiner.de
END:VEVENT
BEGIN:VEVENT
DTSTART;TZID=Europe/Helsinki:20250912T210000
DTEND;TZID=Europe/Helsinki:20250912T230000
DTSTAMP:20260423T170817
CREATED:20250618T110458Z
LAST-MODIFIED:20250618T110459Z
UID:3021-1757710800-1757718000@bf-musicdiner.de
SUMMARY:LIVE MUSIC DEAF RIOT
DESCRIPTION:
URL:https://bf-musicdiner.de/event/live-music-deaf-riot/
LOCATION:BF Music Diner\, Porschestr. 7\, Pfalzgrafenweiler\, 72285\, Deutschland
CATEGORIES:Eventkalender
ORGANIZER;CN="BF Music & Diner":MAILTO:info@bf-musicdiner.de
END:VEVENT
BEGIN:VEVENT
DTSTART;TZID=Europe/Helsinki:20250731T180000
DTEND;TZID=Europe/Helsinki:20250731T213000
DTSTAMP:20260423T170817
CREATED:20250618T105005Z
LAST-MODIFIED:20250618T105426Z
UID:3012-1753984800-1753997400@bf-musicdiner.de
SUMMARY:BURGER GRILLABEND
DESCRIPTION:     
URL:https://bf-musicdiner.de/event/burger-grillabend/
LOCATION:BF Music Diner\, Porschestr. 7\, Pfalzgrafenweiler\, 72285\, Deutschland
CATEGORIES:Eventkalender
ORGANIZER;CN="BF Music & Diner":MAILTO:info@bf-musicdiner.de
END:VEVENT
BEGIN:VEVENT
DTSTART;TZID=Europe/Helsinki:20250627T210000
DTEND;TZID=Europe/Helsinki:20250627T230000
DTSTAMP:20260423T170817
CREATED:20250108T095355Z
LAST-MODIFIED:20250108T095356Z
UID:2944-1751058000-1751065200@bf-musicdiner.de
SUMMARY:LIVE MUSIC
DESCRIPTION:Latino Musik
URL:https://bf-musicdiner.de/event/live-music-3/
LOCATION:BF Music Diner\, Porschestr. 7\, Pfalzgrafenweiler\, 72285\, Deutschland
CATEGORIES:Eventkalender
ORGANIZER;CN="BF Music & Diner":MAILTO:info@bf-musicdiner.de
END:VEVENT
BEGIN:VEVENT
DTSTART;TZID=Europe/Helsinki:20250523T210000
DTEND;TZID=Europe/Helsinki:20250523T230000
DTSTAMP:20260423T170817
CREATED:20250108T094653Z
LAST-MODIFIED:20250108T094654Z
UID:2942-1748034000-1748041200@bf-musicdiner.de
SUMMARY:LIVE MUSIC
DESCRIPTION:Live Music
URL:https://bf-musicdiner.de/event/live-music-2/
LOCATION:BF Music Diner\, Porschestr. 7\, Pfalzgrafenweiler\, 72285\, Deutschland
CATEGORIES:Eventkalender
ORGANIZER;CN="BF Music & Diner":MAILTO:info@bf-musicdiner.de
END:VEVENT
BEGIN:VEVENT
DTSTART;TZID=Europe/Helsinki:20250511T093000
DTEND;TZID=Europe/Helsinki:20250511T113000
DTSTAMP:20260423T170817
CREATED:20250108T093911Z
LAST-MODIFIED:20250108T093912Z
UID:2940-1746955800-1746963000@bf-musicdiner.de
SUMMARY:MUTTERTAGSFRÜHSTÜCK
DESCRIPTION:Muttertagsfrühstück
URL:https://bf-musicdiner.de/event/muttertagsfruehstueck/
LOCATION:BF Music Diner\, Porschestr. 7\, Pfalzgrafenweiler\, 72285\, Deutschland
CATEGORIES:Eventkalender
ORGANIZER;CN="BF Music & Diner":MAILTO:info@bf-musicdiner.de
END:VEVENT
BEGIN:VEVENT
DTSTART;TZID=Europe/Helsinki:20250404T200000
DTEND;TZID=Europe/Helsinki:20250404T220000
DTSTAMP:20260423T170817
CREATED:20250108T092152Z
LAST-MODIFIED:20250108T092256Z
UID:2938-1743796800-1743804000@bf-musicdiner.de
SUMMARY:THEATERAUFFÜHRUNG
DESCRIPTION:
URL:https://bf-musicdiner.de/event/theaterauffuehrung/
LOCATION:BF Music Diner\, Porschestr. 7\, Pfalzgrafenweiler\, 72285\, Deutschland
CATEGORIES:Eventkalender
ORGANIZER;CN="BF Music & Diner":MAILTO:info@bf-musicdiner.de
END:VEVENT
BEGIN:VEVENT
DTSTART;TZID=Europe/Helsinki:20250322T220000
DTEND;TZID=Europe/Helsinki:20250323T010000
DTSTAMP:20260423T170817
CREATED:20250108T091221Z
LAST-MODIFIED:20250108T091459Z
UID:2925-1742680800-1742691600@bf-musicdiner.de
SUMMARY:DJ PARTY
DESCRIPTION:DJ Party
URL:https://bf-musicdiner.de/event/dj-party-3/
LOCATION:BF Music Diner\, Porschestr. 7\, Pfalzgrafenweiler\, 72285\, Deutschland
CATEGORIES:Eventkalender
ORGANIZER;CN="BF Music & Diner":MAILTO:info@bf-musicdiner.de
END:VEVENT
BEGIN:VEVENT
DTSTART;TZID=Europe/Helsinki:20250207T210000
DTEND;TZID=Europe/Helsinki:20250207T230000
DTSTAMP:20260423T170817
CREATED:20250103T131640Z
LAST-MODIFIED:20250103T131640Z
UID:2921-1738962000-1738969200@bf-musicdiner.de
SUMMARY:LIVE MUSIC
DESCRIPTION:Live Music
URL:https://bf-musicdiner.de/event/live-music/
LOCATION:BF Music Diner\, Porschestr. 7\, Pfalzgrafenweiler\, 72285\, Deutschland
CATEGORIES:Eventkalender
ORGANIZER;CN="BF Music & Diner":MAILTO:info@bf-musicdiner.de
END:VEVENT
BEGIN:VEVENT
DTSTART;TZID=Europe/Helsinki:20250131T120000
DTEND;TZID=Europe/Helsinki:20250131T220000
DTSTAMP:20260423T170817
CREATED:20250103T130234Z
LAST-MODIFIED:20250103T130430Z
UID:2917-1738324800-1738360800@bf-musicdiner.de
SUMMARY:JUBILÄUMSTAG
DESCRIPTION:
URL:https://bf-musicdiner.de/event/jubilaeumstag/
LOCATION:BF Music Diner\, Porschestr. 7\, Pfalzgrafenweiler\, 72285\, Deutschland
CATEGORIES:Eventkalender
END:VEVENT
BEGIN:VEVENT
DTSTART;TZID=Europe/Helsinki:20250117T193000
DTEND;TZID=Europe/Helsinki:20250117T230000
DTSTAMP:20260423T170817
CREATED:20241212T131515Z
LAST-MODIFIED:20241212T131823Z
UID:2905-1737142200-1737154800@bf-musicdiner.de
SUMMARY:Biertasting am 17.01.2025
DESCRIPTION:Biertasting
URL:https://bf-musicdiner.de/event/biertasting-am-17-01-2025/
LOCATION:BF Music Diner\, Porschestr. 7\, Pfalzgrafenweiler\, 72285\, Deutschland
CATEGORIES:Eventkalender
ORGANIZER;CN="BF Music & Diner":MAILTO:info@bf-musicdiner.de
END:VEVENT
BEGIN:VEVENT
DTSTART;TZID=Europe/Helsinki:20241116T220000
DTEND;TZID=Europe/Helsinki:20241117T020000
DTSTAMP:20260423T170817
CREATED:20240904T202220Z
LAST-MODIFIED:20240904T203109Z
UID:2851-1731794400-1731808800@bf-musicdiner.de
SUMMARY:DJ-Party am 16.11.2024
DESCRIPTION:DJ-Party
URL:https://bf-musicdiner.de/event/dj-party-am-16-11-2024/
LOCATION:BF Music Diner\, Porschestr. 7\, Pfalzgrafenweiler\, 72285\, Deutschland
CATEGORIES:DJ-Party am 16.11.2024,Eventkalender
ORGANIZER;CN="BF Music & Diner":MAILTO:info@bf-musicdiner.de
END:VEVENT
BEGIN:VEVENT
DTSTART;TZID=Europe/Helsinki:20241013T113000
DTEND;TZID=Europe/Helsinki:20241013T170000
DTSTAMP:20260423T170817
CREATED:20240904T181734Z
LAST-MODIFIED:20240904T181957Z
UID:2840-1728819000-1728838800@bf-musicdiner.de
SUMMARY:Weinwanderung am 13.10.2024
DESCRIPTION:
URL:https://bf-musicdiner.de/event/weinwanderung-am-13-10-2024/
LOCATION:BF Music Diner\, Porschestr. 7\, Pfalzgrafenweiler\, 72285\, Deutschland
ORGANIZER;CN="BF Music & Diner":MAILTO:info@bf-musicdiner.de
END:VEVENT
BEGIN:VEVENT
DTSTART;TZID=Europe/Helsinki:20241013T110000
DTEND;TZID=Europe/Helsinki:20241013T170000
DTSTAMP:20260423T170817
CREATED:20240904T183801Z
LAST-MODIFIED:20241007T052533Z
UID:2847-1728817200-1728838800@bf-musicdiner.de
SUMMARY:Weinwanderung 13.10.2024
DESCRIPTION:Weinwanderung 13.10.2024
URL:https://bf-musicdiner.de/event/weinwanderung-13-10-2024/
LOCATION:BF Music Diner\, Porschestr. 7\, Pfalzgrafenweiler\, 72285\, Deutschland
CATEGORIES:Eventkalender
ORGANIZER;CN="BF Music & Diner":MAILTO:info@bf-musicdiner.de
END:VEVENT
BEGIN:VEVENT
DTSTART;TZID=Europe/Helsinki:20240725T200000
DTEND;TZID=Europe/Helsinki:20240725T223000
DTSTAMP:20260423T170817
CREATED:20240630T115121Z
LAST-MODIFIED:20240630T115121Z
UID:2786-1721937600-1721946600@bf-musicdiner.de
SUMMARY:Live Music mit André Görzner
DESCRIPTION:
URL:https://bf-musicdiner.de/event/live-music-mit-andre-goerzner/
LOCATION:BF Music Diner\, Porschestr. 7\, Pfalzgrafenweiler\, 72285\, Deutschland
CATEGORIES:Eventkalender
ORGANIZER;CN="BF Music & Diner":MAILTO:info@bf-musicdiner.de
END:VEVENT
BEGIN:VEVENT
DTSTART;TZID=Europe/Helsinki:20240614T080000
DTEND;TZID=Europe/Helsinki:20240714T170000
DTSTAMP:20260423T170817
CREATED:20240428T105316Z
LAST-MODIFIED:20240607T193433Z
UID:2747-1718352000-1720976400@bf-musicdiner.de
SUMMARY:EM Specials im BF
DESCRIPTION:EM
URL:https://bf-musicdiner.de/event/em-specials-im-bf/
LOCATION:BF Music Diner\, Porschestr. 7\, Pfalzgrafenweiler\, 72285\, Deutschland
CATEGORIES:Eventkalender
ORGANIZER;CN="BF Music & Diner":MAILTO:info@bf-musicdiner.de
END:VEVENT
BEGIN:VEVENT
DTSTART;VALUE=DATE:20240512
DTEND;VALUE=DATE:20240513
DTSTAMP:20260423T170817
CREATED:20240428T104701Z
LAST-MODIFIED:20240428T104835Z
UID:2744-1715472000-1715558399@bf-musicdiner.de
SUMMARY:Muttertag mit Überraschung
DESCRIPTION:
URL:https://bf-musicdiner.de/event/muttertag/
LOCATION:BF Music Diner\, Porschestr. 7\, Pfalzgrafenweiler\, 72285\, Deutschland
CATEGORIES:Eventkalender
ORGANIZER;CN="BF Music & Diner":MAILTO:info@bf-musicdiner.de
END:VEVENT
BEGIN:VEVENT
DTSTART;TZID=Europe/Helsinki:20240509T100000
DTEND;TZID=Europe/Helsinki:20240509T130000
DTSTAMP:20260423T170817
CREATED:20240428T104238Z
LAST-MODIFIED:20240428T104238Z
UID:2740-1715248800-1715259600@bf-musicdiner.de
SUMMARY:Weisswurst Frühstück am Vatertag
DESCRIPTION: 
URL:https://bf-musicdiner.de/event/weisswurst-fruehstueck-am-vatertag/
LOCATION:BF Music Diner\, Porschestr. 7\, Pfalzgrafenweiler\, 72285\, Deutschland
CATEGORIES:Eventkalender
ORGANIZER;CN="BF Music & Diner":MAILTO:info@bf-musicdiner.de
END:VEVENT
BEGIN:VEVENT
DTSTART;TZID=Europe/Helsinki:20240316T220000
DTEND;TZID=Europe/Helsinki:20240317T010000
DTSTAMP:20260423T170817
CREATED:20240101T202109Z
LAST-MODIFIED:20240101T202121Z
UID:2637-1710626400-1710637200@bf-musicdiner.de
SUMMARY:DJ Party mit Dieter J.
DESCRIPTION:Party mit Hits aus den 80ern\, 90ern und Schlager! \n 
URL:https://bf-musicdiner.de/event/dj-party-mit-dieter-j/
CATEGORIES:Eventkalender
END:VEVENT
END:VCALENDAR