BEGIN:VCALENDAR
VERSION:2.0
PRODID:-//BF MUSIC DINER - ECPv6.2.9//NONSGML v1.0//EN
CALSCALE:GREGORIAN
METHOD:PUBLISH
X-WR-CALNAME:BF MUSIC DINER
X-ORIGINAL-URL:https://bf-musicdiner.de
X-WR-CALDESC:Veranstaltungen für BF MUSIC DINER
REFRESH-INTERVAL;VALUE=DURATION:PT1H
X-Robots-Tag:noindex
X-PUBLISHED-TTL:PT1H
BEGIN:VTIMEZONE
TZID:Europe/Helsinki
BEGIN:DAYLIGHT
TZOFFSETFROM:+0200
TZOFFSETTO:+0300
TZNAME:EEST
DTSTART:20260329T010000
END:DAYLIGHT
BEGIN:STANDARD
TZOFFSETFROM:+0300
TZOFFSETTO:+0200
TZNAME:EET
DTSTART:20261025T010000
END:STANDARD
END:VTIMEZONE
BEGIN:VEVENT
DTSTART;TZID=Europe/Helsinki:20260510T093000
DTEND;TZID=Europe/Helsinki:20260510T113000
DTSTAMP:20260420T040747
CREATED:20260104T155529Z
LAST-MODIFIED:20260104T155529Z
UID:3207-1778405400-1778412600@bf-musicdiner.de
SUMMARY:Muttertagsfrühstück
DESCRIPTION:
URL:https://bf-musicdiner.de/event/muttertagsfruehstueck-2/
LOCATION:BF Music Diner\, Porschestr. 7\, Pfalzgrafenweiler\, 72285\, Deutschland
CATEGORIES:Eventkalender
ORGANIZER;CN="BF Music & Diner":MAILTO:info@bf-musicdiner.de
END:VEVENT
BEGIN:VEVENT
DTSTART;TZID=Europe/Helsinki:20260730T210000
DTEND;TZID=Europe/Helsinki:20260730T233000
DTSTAMP:20260420T040747
CREATED:20260104T155723Z
LAST-MODIFIED:20260104T155723Z
UID:3209-1785445200-1785454200@bf-musicdiner.de
SUMMARY:Live Music
DESCRIPTION:
URL:https://bf-musicdiner.de/event/live-music-4/
LOCATION:BF Music Diner\, Porschestr. 7\, Pfalzgrafenweiler\, 72285\, Deutschland
CATEGORIES:Eventkalender
ORGANIZER;CN="BF Music & Diner":MAILTO:info@bf-musicdiner.de
END:VEVENT
BEGIN:VEVENT
DTSTART;TZID=Europe/Helsinki:20261002T210000
DTEND;TZID=Europe/Helsinki:20261002T233000
DTSTAMP:20260420T040747
CREATED:20260104T155918Z
LAST-MODIFIED:20260104T155918Z
UID:3211-1790974800-1790983800@bf-musicdiner.de
SUMMARY:Party Italiana
DESCRIPTION:
URL:https://bf-musicdiner.de/event/party-italiana-2/
LOCATION:BF Music Diner\, Porschestr. 7\, Pfalzgrafenweiler\, 72285\, Deutschland
CATEGORIES:Eventkalender
ORGANIZER;CN="BF Music & Diner":MAILTO:info@bf-musicdiner.de
END:VEVENT
BEGIN:VEVENT
DTSTART;TZID=Europe/Helsinki:20261016T210000
DTEND;TZID=Europe/Helsinki:20261016T233000
DTSTAMP:20260420T040747
CREATED:20260104T160110Z
LAST-MODIFIED:20260104T160110Z
UID:3213-1792184400-1792193400@bf-musicdiner.de
SUMMARY:Karaoke Party
DESCRIPTION:
URL:https://bf-musicdiner.de/event/karaoke-party-4/
LOCATION:BF Music Diner\, Porschestr. 7\, Pfalzgrafenweiler\, 72285\, Deutschland
CATEGORIES:Eventkalender
ORGANIZER;CN="BF Music & Diner":MAILTO:info@bf-musicdiner.de
END:VEVENT
BEGIN:VEVENT
DTSTART;TZID=Europe/Helsinki:20261106T210000
DTEND;TZID=Europe/Helsinki:20261106T233000
DTSTAMP:20260420T040747
CREATED:20260104T160316Z
LAST-MODIFIED:20260104T160316Z
UID:3215-1793998800-1794007800@bf-musicdiner.de
SUMMARY:Live Music Soulhikers
DESCRIPTION:
URL:https://bf-musicdiner.de/event/live-music-soulhikers/
LOCATION:BF Music Diner\, Porschestr. 7\, Pfalzgrafenweiler\, 72285\, Deutschland
CATEGORIES:Eventkalender
ORGANIZER;CN="BF Music & Diner":MAILTO:info@bf-musicdiner.de
END:VEVENT
BEGIN:VEVENT
DTSTART;TZID=Europe/Helsinki:20261121T220000
DTEND;TZID=Europe/Helsinki:20261122T010000
DTSTAMP:20260420T040747
CREATED:20260104T160702Z
LAST-MODIFIED:20260104T160702Z
UID:3217-1795298400-1795309200@bf-musicdiner.de
SUMMARY:DJ Party
DESCRIPTION:
URL:https://bf-musicdiner.de/event/dj-party-6/
LOCATION:BF Music Diner\, Porschestr. 7\, Pfalzgrafenweiler\, 72285\, Deutschland
CATEGORIES:Eventkalender
ORGANIZER;CN="BF Music & Diner":MAILTO:info@bf-musicdiner.de
END:VEVENT
BEGIN:VEVENT
DTSTART;TZID=Europe/Helsinki:20261223T220000
DTEND;TZID=Europe/Helsinki:20261224T013000
DTSTAMP:20260420T040747
CREATED:20260104T161235Z
LAST-MODIFIED:20260104T161235Z
UID:3220-1798063200-1798075800@bf-musicdiner.de
SUMMARY:DJ Christmas Party
DESCRIPTION:
URL:https://bf-musicdiner.de/event/dj-christmas-party-2/
LOCATION:BF Music Diner\, Porschestr. 7\, Pfalzgrafenweiler\, 72285\, Deutschland
CATEGORIES:Eventkalender
ORGANIZER;CN="BF Music & Diner":MAILTO:info@bf-musicdiner.de
END:VEVENT
END:VCALENDAR